BEGIN:VCALENDAR
VERSION:2.0
PRODID:-//Pat Krimson - ECPv6.8.1//NONSGML v1.0//EN
CALSCALE:GREGORIAN
METHOD:PUBLISH
X-ORIGINAL-URL:https://patkrimson.be
X-WR-CALDESC:Events voor Pat Krimson
REFRESH-INTERVAL;VALUE=DURATION:PT1H
X-Robots-Tag:noindex
X-PUBLISHED-TTL:PT1H
BEGIN:VTIMEZONE
TZID:UTC
BEGIN:STANDARD
TZOFFSETFROM:+0000
TZOFFSETTO:+0000
TZNAME:UTC
DTSTART:20260101T000000
END:STANDARD
END:VTIMEZONE
BEGIN:VEVENT
DTSTART;VALUE=DATE:20260807
DTEND;VALUE=DATE:20260809
DTSTAMP:20260422T085027
CREATED:20260311T102656Z
LAST-MODIFIED:20260311T102656Z
UID:119862-1786078800-1786165199@patkrimson.be
SUMMARY:Elze Rock - Katelijne Waver
DESCRIPTION:
URL:https://patkrimson.be/event/elze-rock-katelijne-waver/
CATEGORIES:Pat krimson
END:VEVENT
BEGIN:VEVENT
DTSTART;VALUE=DATE:20260808
DTEND;VALUE=DATE:20260810
DTSTAMP:20260422T085027
CREATED:20260311T102904Z
LAST-MODIFIED:20260311T102904Z
UID:119867-1786165200-1786251599@patkrimson.be
SUMMARY:AtmoZ Beach Hasselt
DESCRIPTION:
URL:https://patkrimson.be/event/atmoz-beach-hasselt/
CATEGORIES:Pat krimson
END:VEVENT
BEGIN:VEVENT
DTSTART;TZID=UTC:20260815T004500
DTEND;TZID=UTC:20260815T004500
DTSTAMP:20260422T085027
CREATED:20260311T103242Z
LAST-MODIFIED:20260311T103242Z
UID:119875-1786754700-1786754700@patkrimson.be
SUMMARY:Zedelgem
DESCRIPTION:
URL:https://patkrimson.be/event/zedelgem-2/
CATEGORIES:Pat krimson
END:VEVENT
BEGIN:VEVENT
DTSTART;TZID=UTC:20260822T010000
DTEND;TZID=UTC:20260822T010000
DTSTAMP:20260422T085027
CREATED:20260311T103829Z
LAST-MODIFIED:20260311T103829Z
UID:119888-1787360400-1787360400@patkrimson.be
SUMMARY:Beert
DESCRIPTION:
URL:https://patkrimson.be/event/beert/
CATEGORIES:Pat krimson
END:VEVENT
BEGIN:VEVENT
DTSTART;TZID=UTC:20260822T190000
DTEND;TZID=UTC:20260822T190000
DTSTAMP:20260422T085027
CREATED:20260311T104124Z
LAST-MODIFIED:20260311T104124Z
UID:119894-1787425200-1787425200@patkrimson.be
SUMMARY:Eindhoven NL Limitz Outdoor
DESCRIPTION:
URL:https://patkrimson.be/event/eindhoven-nl-limitz-outdoor/
CATEGORIES:Pat krimson
END:VEVENT
BEGIN:VEVENT
DTSTART;TZID=UTC:20260822T220000
DTEND;TZID=UTC:20260822T220000
DTSTAMP:20260422T085027
CREATED:20260311T103433Z
LAST-MODIFIED:20260311T103433Z
UID:119880-1787436000-1787436000@patkrimson.be
SUMMARY:Dilsen-Stokkem Boyerfeesten
DESCRIPTION:
URL:https://patkrimson.be/event/dilsen-stokkem-boyerfeesten/
CATEGORIES:Pat krimson
END:VEVENT
BEGIN:VEVENT
DTSTART;TZID=UTC:20260828T213000
DTEND;TZID=UTC:20260828T213000
DTSTAMP:20260422T085027
CREATED:20260126T101714Z
LAST-MODIFIED:20260126T101714Z
UID:119751-1787952600-1787952600@patkrimson.be
SUMMARY:Hemiksem Klinkt (21:30h)
DESCRIPTION:
URL:https://patkrimson.be/event/hemiksem-klinkt-2130h-2/
CATEGORIES:Pat krimson
END:VEVENT
BEGIN:VEVENT
DTSTART;TZID=UTC:20260829T010000
DTEND;TZID=UTC:20260829T010000
DTSTAMP:20260422T085027
CREATED:20260126T102310Z
LAST-MODIFIED:20260126T102310Z
UID:119755-1787965200-1787965200@patkrimson.be
SUMMARY:Poperinge Markt Rock (01h)
DESCRIPTION:
URL:https://patkrimson.be/event/poperinge-markt-rock-01h/
CATEGORIES:Pat krimson
END:VEVENT
BEGIN:VEVENT
DTSTART;TZID=UTC:20260829T193000
DTEND;TZID=UTC:20260829T193000
DTSTAMP:20260422T085027
CREATED:20260126T101741Z
LAST-MODIFIED:20260126T102148Z
UID:119753-1788031800-1788031800@patkrimson.be
SUMMARY:Stabroek (19:30h)
DESCRIPTION:
URL:https://patkrimson.be/event/stabroek-1930h-2/
CATEGORIES:Pat krimson
END:VEVENT
END:VCALENDAR