BEGIN:VCALENDAR
VERSION:2.0
PRODID:-//Pat Krimson - ECPv6.8.1//NONSGML v1.0//EN
CALSCALE:GREGORIAN
METHOD:PUBLISH
X-ORIGINAL-URL:https://patkrimson.be
X-WR-CALDESC:Events voor Pat Krimson
REFRESH-INTERVAL;VALUE=DURATION:PT1H
X-Robots-Tag:noindex
X-PUBLISHED-TTL:PT1H
BEGIN:VTIMEZONE
TZID:UTC
BEGIN:STANDARD
TZOFFSETFROM:+0000
TZOFFSETTO:+0000
TZNAME:UTC
DTSTART:20260101T000000
END:STANDARD
END:VTIMEZONE
BEGIN:VEVENT
DTSTART;TZID=UTC:20260411T013000
DTEND;TZID=UTC:20260411T013000
DTSTAMP:20260420T045554
CREATED:20260126T100227Z
LAST-MODIFIED:20260126T100227Z
UID:119715-1775871000-1775871000@patkrimson.be
SUMMARY:Roeselare (01.30h)
DESCRIPTION:
URL:https://patkrimson.be/event/roeselare-01-30h/
CATEGORIES:Pat krimson
END:VEVENT
END:VCALENDAR