BEGIN:VCALENDAR
VERSION:2.0
PRODID:-//Pat Krimson - ECPv6.8.1//NONSGML v1.0//EN
CALSCALE:GREGORIAN
METHOD:PUBLISH
X-ORIGINAL-URL:https://patkrimson.be
X-WR-CALDESC:Events voor Pat Krimson
REFRESH-INTERVAL;VALUE=DURATION:PT1H
X-Robots-Tag:noindex
X-PUBLISHED-TTL:PT1H
BEGIN:VTIMEZONE
TZID:UTC
BEGIN:STANDARD
TZOFFSETFROM:+0000
TZOFFSETTO:+0000
TZNAME:UTC
DTSTART:20260101T000000
END:STANDARD
END:VTIMEZONE
BEGIN:VEVENT
DTSTART;VALUE=DATE:20260507
DTEND;VALUE=DATE:20260509
DTSTAMP:20260420T064159
CREATED:20260126T100432Z
LAST-MODIFIED:20260126T100432Z
UID:119721-1778130000-1778216399@patkrimson.be
SUMMARY:Oud-Heverlee (Privé)
DESCRIPTION:
URL:https://patkrimson.be/event/oud-heverlee-prive/
CATEGORIES:Pat krimson
END:VEVENT
BEGIN:VEVENT
DTSTART;TZID=UTC:20260508T000000
DTEND;TZID=UTC:20260508T000000
DTSTAMP:20260420T064159
CREATED:20260126T100528Z
LAST-MODIFIED:20260126T100528Z
UID:119723-1778198400-1778198400@patkrimson.be
SUMMARY:Wervik Bal Populair (24h)
DESCRIPTION:
URL:https://patkrimson.be/event/wervik-bal-populair-24h/
CATEGORIES:Pat krimson
END:VEVENT
END:VCALENDAR