BEGIN:VCALENDAR
VERSION:2.0
PRODID:-//Pat Krimson - ECPv6.8.1//NONSGML v1.0//EN
CALSCALE:GREGORIAN
METHOD:PUBLISH
X-WR-CALNAME:Pat Krimson
X-ORIGINAL-URL:https://patkrimson.be
X-WR-CALDESC:Events voor Pat Krimson
REFRESH-INTERVAL;VALUE=DURATION:PT1H
X-Robots-Tag:noindex
X-PUBLISHED-TTL:PT1H
BEGIN:VTIMEZONE
TZID:UTC
BEGIN:STANDARD
TZOFFSETFROM:+0000
TZOFFSETTO:+0000
TZNAME:UTC
DTSTART:20260101T000000
END:STANDARD
END:VTIMEZONE
BEGIN:VEVENT
DTSTART;TZID=UTC:20260613T183000
DTEND;TZID=UTC:20260613T183000
DTSTAMP:20260420T082043
CREATED:20260126T100807Z
LAST-MODIFIED:20260311T095246Z
UID:119731-1781375400-1781375400@patkrimson.be
SUMMARY:Mol - Legacy
DESCRIPTION:
URL:https://patkrimson.be/event/mol-legacy/
CATEGORIES:Pat krimson
END:VEVENT
BEGIN:VEVENT
DTSTART;TZID=UTC:20260613T223000
DTEND;TZID=UTC:20260613T223000
DTSTAMP:20260420T082043
CREATED:20260311T095822Z
LAST-MODIFIED:20260311T095822Z
UID:119812-1781389800-1781389800@patkrimson.be
SUMMARY:Oostakker
DESCRIPTION:
URL:https://patkrimson.be/event/oostakker/
CATEGORIES:Pat krimson
END:VEVENT
END:VCALENDAR