BEGIN:VCALENDAR
VERSION:2.0
PRODID:-//Pat Krimson - ECPv6.8.1//NONSGML v1.0//EN
CALSCALE:GREGORIAN
METHOD:PUBLISH
X-WR-CALNAME:Pat Krimson
X-ORIGINAL-URL:https://patkrimson.be
X-WR-CALDESC:Events voor Pat Krimson
REFRESH-INTERVAL;VALUE=DURATION:PT1H
X-Robots-Tag:noindex
X-PUBLISHED-TTL:PT1H
BEGIN:VTIMEZONE
TZID:UTC
BEGIN:STANDARD
TZOFFSETFROM:+0000
TZOFFSETTO:+0000
TZNAME:UTC
DTSTART:20260101T000000
END:STANDARD
END:VTIMEZONE
BEGIN:VEVENT
DTSTART;TZID=UTC:20260626T000000
DTEND;TZID=UTC:20260626T000000
DTSTAMP:20260420T082044
CREATED:20260126T101112Z
LAST-MODIFIED:20260126T125140Z
UID:119737-1782432000-1782432000@patkrimson.be
SUMMARY:Tienen - Sweet City Festival (24h)
DESCRIPTION:
URL:https://patkrimson.be/event/tienen-sweet-city-festival-24h/
CATEGORIES:Pat krimson
END:VEVENT
BEGIN:VEVENT
DTSTART;TZID=UTC:20260626T020000
DTEND;TZID=UTC:20260626T020000
DTSTAMP:20260420T082044
CREATED:20260311T100844Z
LAST-MODIFIED:20260311T100844Z
UID:119832-1782439200-1782439200@patkrimson.be
SUMMARY:Alken Open Lucht
DESCRIPTION:
URL:https://patkrimson.be/event/alken-open-lucht/
CATEGORIES:Pat krimson
END:VEVENT
END:VCALENDAR