BEGIN:VCALENDAR
VERSION:2.0
PRODID:-//Pat Krimson - ECPv6.8.1//NONSGML v1.0//EN
CALSCALE:GREGORIAN
METHOD:PUBLISH
X-ORIGINAL-URL:https://patkrimson.be
X-WR-CALDESC:Events voor Pat Krimson
REFRESH-INTERVAL;VALUE=DURATION:PT1H
X-Robots-Tag:noindex
X-PUBLISHED-TTL:PT1H
BEGIN:VTIMEZONE
TZID:UTC
BEGIN:STANDARD
TZOFFSETFROM:+0000
TZOFFSETTO:+0000
TZNAME:UTC
DTSTART:20250101T000000
END:STANDARD
END:VTIMEZONE
BEGIN:VEVENT
DTSTART;TZID=UTC:20260905T000000
DTEND;TZID=UTC:20260905T000000
DTSTAMP:20260422T121313
CREATED:20260126T102355Z
LAST-MODIFIED:20260126T102355Z
UID:119757-1788566400-1788566400@patkrimson.be
SUMMARY:St. Job in het Goor (24h)
DESCRIPTION:
URL:https://patkrimson.be/event/st-job-in-het-goor-24h/
CATEGORIES:Pat krimson
END:VEVENT
BEGIN:VEVENT
DTSTART;VALUE=DATE:20260919
DTEND;VALUE=DATE:20260921
DTSTAMP:20260422T121313
CREATED:20260126T102440Z
LAST-MODIFIED:20260127T074243Z
UID:119759-1789794000-1789880399@patkrimson.be
SUMMARY:Willebroek - Willy’s Moustache
DESCRIPTION:
URL:https://patkrimson.be/event/willebroek-willys-moustache/
CATEGORIES:Pat krimson
END:VEVENT
BEGIN:VEVENT
DTSTART;VALUE=DATE:20260926
DTEND;VALUE=DATE:20260928
DTSTAMP:20260422T121313
CREATED:20260126T102724Z
LAST-MODIFIED:20260127T074231Z
UID:119761-1790398800-1790485199@patkrimson.be
SUMMARY:Hasselt - Frame AtmoZ
DESCRIPTION:
URL:https://patkrimson.be/event/hasselt-frame-atmoz/
CATEGORIES:Pat krimson
END:VEVENT
BEGIN:VEVENT
DTSTART;VALUE=DATE:20261005
DTEND;VALUE=DATE:20261007
DTSTAMP:20260422T121313
CREATED:20240215T153057Z
LAST-MODIFIED:20250331T075853Z
UID:118883-1791176400-1791262799@patkrimson.be
SUMMARY:Sittard NL - Pop podium
DESCRIPTION:
URL:https://patkrimson.be/event/sittard-nl-pop-podium/
CATEGORIES:Pat krimson
END:VEVENT
BEGIN:VEVENT
DTSTART;TZID=UTC:20251005T200000
DTEND;TZID=UTC:20251005T200000
DTSTAMP:20260422T121313
CREATED:20241014T082015Z
LAST-MODIFIED:20241014T082015Z
UID:119221-1759694400-1759694400@patkrimson.be
SUMMARY:Aarschot Fashion-show
DESCRIPTION:
URL:https://patkrimson.be/event/aarschot-fashion-show/
LOCATION:Aarschot\, Belgium
CATEGORIES:Pat krimson
END:VEVENT
BEGIN:VEVENT
DTSTART;VALUE=DATE:20261017
DTEND;VALUE=DATE:20261019
DTSTAMP:20260422T121313
CREATED:20260311T103546Z
LAST-MODIFIED:20260311T105339Z
UID:119884-1792213200-1792299599@patkrimson.be
SUMMARY:Ternat
DESCRIPTION:
URL:https://patkrimson.be/event/ternat/
CATEGORIES:2fabiola,Pat krimson
END:VEVENT
BEGIN:VEVENT
DTSTART;VALUE=DATE:20261024
DTEND;VALUE=DATE:20261026
DTSTAMP:20260422T121313
CREATED:20260311T105703Z
LAST-MODIFIED:20260311T105703Z
UID:119896-1792818000-1792904399@patkrimson.be
SUMMARY:Dixies - Brasschaat
DESCRIPTION:
URL:https://patkrimson.be/event/dixies-brasschaat/
CATEGORIES:2fabiola,Pat krimson
END:VEVENT
BEGIN:VEVENT
DTSTART;VALUE=DATE:20261031
DTEND;VALUE=DATE:20261102
DTSTAMP:20260422T121313
CREATED:20260126T102800Z
LAST-MODIFIED:20260127T074127Z
UID:119763-1793422800-1793509199@patkrimson.be
SUMMARY:Eindhoven AtmoZ Indoor
DESCRIPTION:
URL:https://patkrimson.be/event/eindhoven-atmoz-indoor/
CATEGORIES:Pat krimson
END:VEVENT
BEGIN:VEVENT
DTSTART;TZID=UTC:20261114T220000
DTEND;TZID=UTC:20261114T220000
DTSTAMP:20260422T121313
CREATED:20260311T103655Z
LAST-MODIFIED:20260311T105800Z
UID:119886-1794693600-1794693600@patkrimson.be
SUMMARY:Kortrijk - Grote Markt
DESCRIPTION:
URL:https://patkrimson.be/event/kortrijk-grote-markt/
CATEGORIES:2fabiola,Pat krimson
END:VEVENT
BEGIN:VEVENT
DTSTART;VALUE=DATE:20261128
DTEND;VALUE=DATE:20261130
DTSTAMP:20260422T121313
CREATED:20260311T105951Z
LAST-MODIFIED:20260311T105951Z
UID:119899-1795842000-1795928399@patkrimson.be
SUMMARY:Geetbets - Endorphium
DESCRIPTION:
URL:https://patkrimson.be/event/geetbets-endorphium/
CATEGORIES:Pat krimson
END:VEVENT
BEGIN:VEVENT
DTSTART;VALUE=DATE:20261205
DTEND;VALUE=DATE:20261207
DTSTAMP:20260422T121313
CREATED:20260311T110102Z
LAST-MODIFIED:20260311T110102Z
UID:119901-1796446800-1796533199@patkrimson.be
SUMMARY:Maastricht NL Complex AtmoZ
DESCRIPTION:
URL:https://patkrimson.be/event/maastricht-nl-complex-atmoz-2/
CATEGORIES:Pat krimson
END:VEVENT
END:VCALENDAR