BEGIN:VCALENDAR
VERSION:2.0
PRODID:-//Pat Krimson - ECPv6.8.1//NONSGML v1.0//EN
CALSCALE:GREGORIAN
METHOD:PUBLISH
X-WR-CALNAME:Pat Krimson
X-ORIGINAL-URL:https://patkrimson.be
X-WR-CALDESC:Events voor Pat Krimson
REFRESH-INTERVAL;VALUE=DURATION:PT1H
X-Robots-Tag:noindex
X-PUBLISHED-TTL:PT1H
BEGIN:VTIMEZONE
TZID:UTC
BEGIN:STANDARD
TZOFFSETFROM:+0000
TZOFFSETTO:+0000
TZNAME:UTC
DTSTART:20260101T000000
END:STANDARD
END:VTIMEZONE
BEGIN:VEVENT
DTSTART;TZID=UTC:20260425T190000
DTEND;TZID=UTC:20260425T190000
DTSTAMP:20260420T030651
CREATED:20260311T094557Z
LAST-MODIFIED:20260311T094557Z
UID:119795-1777143600-1777143600@patkrimson.be
SUMMARY:Dworp
DESCRIPTION:
URL:https://patkrimson.be/event/dworp/
CATEGORIES:Pat krimson
END:VEVENT
BEGIN:VEVENT
DTSTART;VALUE=DATE:20260426
DTEND;VALUE=DATE:20260428
DTSTAMP:20260420T030651
CREATED:20260126T100310Z
LAST-MODIFIED:20260126T100310Z
UID:119717-1777179600-1777265999@patkrimson.be
SUMMARY:Sittard NL - Koningsdag  AtmoZ
DESCRIPTION:
URL:https://patkrimson.be/event/sittard-nl-koningsdag-atmoz/
CATEGORIES:Pat krimson
END:VEVENT
END:VCALENDAR